BEGIN:VCALENDAR
VERSION:2.0
PRODID:-//wp-events-plugin.com//7.2.3.1//EN
TZID:America/Chicago
X-WR-TIMEZONE:America/Chicago
BEGIN:VEVENT
UID:176@kctapleague.com
DTSTART;TZID=America/Chicago:20260420T190000
DTEND;TZID=America/Chicago:20260622T234500
DTSTAMP:20260422T214342Z
URL:https://kctapleague.com/events/9-ball-singles/
SUMMARY:9-BALL Singles
DESCRIPTION:\n\n10 WEEK SESSIONS\n\n 	\n\n 	$15 Per Player \n 	 10-Ball Pay
 out Pot = $40 Per Team In Division\n{Example: If 20 Players In Division\, 
 Prize Pot Will Be $800}\n 	1st Place in points in 10-Ball Receive $100.\n2
 nd Place in Points receive $50. \n (10-Ball is not available at nationals 
 at this time)\n 	1st Place in points Receive qualification to Titleholder.
 (National Qualifying Tournament)  \n\nWith 10 Or More Teams 1st and second
  get qualification\, If Less Than 10 Teams\, Only 1st Place Shall Receive 
 The Entry\n\n\n 	1st Place Prize Money is $100 And A Plaque\, 2nd Place Re
 ceives $50\n(This Is Overall Session Points)\n\n 	The Playoffs Shall Consi
 st of The Top 6\, In Which Will Play For The Remainder Of The Session Priz
 e Money At a 60/40 Split For 1st And Second Place Of The Playoff Tournamen
 t.\n 	The Playoff format is:\nLowest Seed Will Play Highest Seed.\n\n\n
ATTACH;FMTTYPE=image/jpeg:https://i0.wp.com/kctapleague.com/wp-content/upl
 oads/2026/04/9ball-teams-singles.png?fit=1024%2C1536&ssl=1
CATEGORIES:9-Ball Singles
LOCATION:Side Pockets Blue Springs\, 1237 MO-7\, Blue Springs\, MO\, 64014\
 , United States
GEO:39.004205;-94.275469
X-APPLE-STRUCTURED-LOCATION;VALUE=URI;X-ADDRESS=1237 MO-7\, Blue Springs\, 
 MO\, 64014\, United States;X-APPLE-RADIUS=100;X-TITLE=Side Pockets Blue Sp
 rings:geo:39.004205,-94.275469
END:VEVENT
BEGIN:VTIMEZONE
TZID:America/Chicago
X-LIC-LOCATION:America/Chicago
BEGIN:DAYLIGHT
DTSTART:20260308T030000
TZOFFSETFROM:-0600
TZOFFSETTO:-0500
TZNAME:CDT
END:DAYLIGHT
END:VTIMEZONE
END:VCALENDAR