BEGIN:VCALENDAR
VERSION:2.0
PRODID:-//wp-events-plugin.com//7.2.3.1//EN
TZID:America/Chicago
X-WR-TIMEZONE:America/Chicago
BEGIN:VEVENT
UID:147@kctapleague.com
DTSTART;TZID=America/Chicago:20260222T180000
DTEND;TZID=America/Chicago:20260517T234500
DTSTAMP:20260422T195447Z
URL:https://kctapleague.com/events/triple-singles/
SUMMARY:Triple Singles
DESCRIPTION:\n  \n    10 WEEK SESSIONS\n\n(8-Ball\, 9-Ball\, &amp\; 10-Ball
  singles)  \n\n  \n\n\n  \n    $15 Per Player \n  \n  \n     10-Ball Payou
 t Pot = $40 Per Team In Division\n    {Example: If 20 Players In Division\
 , Prize Pot Will Be $800}\n  \n  \n    1st Place in points in 10-Ball Rece
 ive $100.  2nd Place in Points receive $50.  (10-Ball is not available at 
 nationals at this time)\n  \n    1st Place in 8-Ball And 9-Ball points Rec
 eive qualification to Titleholder.(National Qualifying Tournament)   \n  \
 n    \n      \n        With 10 Or More Teams 1st and second get qualificat
 ion\, If Less Than 10 Teams\, Only 1st Place Shall Receive The Entry\n    
   \n    \n  \n  \n    1st Place Prize Money is $100 And A Plaque\, 2nd Pla
 ce Receives $50\n      (This Is Overall Session Points In 10-Ball)\n    \n
   \n  \n    The Playoffs Shall Consist of The Top 6 Teams of 10-Ball\, In 
 Which Will Play For The Remainder Of The Session Prize Money At a 60/40 Sp
 lit For 1st And Second Place Of The Playoff Tournament.(8 and 9-Ball With 
 10 Or More Teams 1st and second get qualification\, If Less Than 10 Teams\
 , Only 1st Place Shall Receive The Entry)  \n  \n  \n    The Playoff forma
 t is: Lowest Seed Will Play Highest Seed.\n  \n
ATTACH;FMTTYPE=image/jpeg:https://i0.wp.com/kctapleague.com/wp-content/upl
 oads/2026/02/TRIPLE_SINGLES.png?fit=408%2C612&ssl=1
CATEGORIES:10-Ball Singles,8-Ball Singles,9-Ball Singles,Triple Singles
LOCATION:Side Pockets Lee's Summit\, 224 NW Oldham Pkwy\, Lee's Summit\, MO
 \, 64081\, United States
GEO:38.917341;-94.40252
X-APPLE-STRUCTURED-LOCATION;VALUE=URI;X-ADDRESS=224 NW Oldham Pkwy\, Lee's 
 Summit\, MO\, 64081\, United States;X-APPLE-RADIUS=100;X-TITLE=Side Pocket
 s Lee's Summit:geo:38.917341,-94.40252
END:VEVENT
BEGIN:VTIMEZONE
TZID:America/Chicago
X-LIC-LOCATION:America/Chicago
BEGIN:STANDARD
DTSTART:20251102T010000
TZOFFSETFROM:-0500
TZOFFSETTO:-0600
TZNAME:CST
END:STANDARD
BEGIN:DAYLIGHT
DTSTART:20260308T030000
TZOFFSETFROM:-0600
TZOFFSETTO:-0500
TZNAME:CDT
END:DAYLIGHT
END:VTIMEZONE
END:VCALENDAR