BEGIN:VCALENDAR
VERSION:2.0
PRODID:-//wp-events-plugin.com//7.2.3.1//EN
TZID:America/Chicago
X-WR-TIMEZONE:America/Chicago
BEGIN:VEVENT
UID:161@kctapleague.com
DTSTART;TZID=America/Chicago:20260419T150000
DTEND;TZID=America/Chicago:20260712T190000
DTSTAMP:20260422T202608Z
URL:https://kctapleague.com/events/womens-8-ball-teams/
SUMMARY:Women's 8-Ball Teams
DESCRIPTION:\n  \n    ALL TEAMS (12 WEEK SESSIONS)\n  \n\n\n  \n    $10 Per
  Match\, Teams Play 5 Matches\n  \n  \n    Payout Pot = $100 Per Team In D
 ivision\n    {Example: If 10 Teams\, Prize Pot Will Be $1000}\n  \n  \n   
  1st In Points Will Receive A Plaque And An Entry To The Title Holders\n  
   \n      (National Qualifying Tournament)\n    \n  \n  \n    The Playoffs
  Shall Consist of The Top 2 Teams\, In Which Will Play A Race To 3 For The
  The Session Prize Money!\n    \n    \n      \n        With 6 Or More Team
 s\, Top 2 Will Pay Out At A 60/40 Split For 1st And Second Place Of The Pl
 ayoff Race.\n      \n    \n  \n  \n
ATTACH;FMTTYPE=image/jpeg:https://i0.wp.com/kctapleague.com/wp-content/upl
 oads/2026/04/womens8ball.png?fit=1024%2C1536&ssl=1
CATEGORIES:8-Ball Teams,Women's League
LOCATION:Side Pockets Blue Springs\, 1237 MO-7\, Blue Springs\, MO\, 64014\
 , United States
GEO:39.004205;-94.275469
X-APPLE-STRUCTURED-LOCATION;VALUE=URI;X-ADDRESS=1237 MO-7\, Blue Springs\, 
 MO\, 64014\, United States;X-APPLE-RADIUS=100;X-TITLE=Side Pockets Blue Sp
 rings:geo:39.004205,-94.275469
END:VEVENT
BEGIN:VTIMEZONE
TZID:America/Chicago
X-LIC-LOCATION:America/Chicago
BEGIN:DAYLIGHT
DTSTART:20260308T030000
TZOFFSETFROM:-0600
TZOFFSETTO:-0500
TZNAME:CDT
END:DAYLIGHT
END:VTIMEZONE
END:VCALENDAR